BEGIN:VCALENDAR
VERSION:2.0
PRODID:-//Casus - ECPv4.8.1//NONSGML v1.0//EN
CALSCALE:GREGORIAN
METHOD:PUBLISH
X-WR-CALNAME:Casus
X-ORIGINAL-URL:http://casus.com.au
X-WR-CALDESC:Events for Casus
BEGIN:VEVENT
DTSTART;VALUE=DATE:20190215
DTEND;VALUE=DATE:20190304
DTSTAMP:20190228T220544
CREATED:20181205T015941Z
LAST-MODIFIED:20181205T015941Z
UID:3707-1550188800-1551657599@casus.com.au
SUMMARY:DNA - Adelaide Fringe Festival
DESCRIPTION:
URL:http://casus.com.au/event/dna-adelaide-fringe-festival/
LOCATION:Tandanya Theatre\, 253 Grenfell St\, Adelaide\, South Australia\, 5001\, Australia
END:VEVENT
BEGIN:VEVENT
DTSTART;VALUE=DATE:20190215
DTEND;VALUE=DATE:20190304
DTSTAMP:20190228T220544
CREATED:20181205T020715Z
LAST-MODIFIED:20181205T020715Z
UID:3714-1550188800-1551657599@casus.com.au
SUMMARY:Chasing Smoke - Adelaide Fringe Festival
DESCRIPTION:
URL:http://casus.com.au/event/chasing-smoke-adelaide-fringe-festival/
LOCATION:Gluttony\, Rymill Park\, Corner of East Terrace and Rundle Rd\, Adelaide\, SA\, 5000\, Australia
END:VEVENT
END:VCALENDAR